BEGIN:VCALENDAR
VERSION:2.0
PRODID:-//ChamberMaster//Event Calendar 2.0//EN
METHOD:PUBLISH
X-PUBLISHED-TTL:P3D
REFRESH-INTERVAL:P3D
CALSCALE:GREGORIAN
BEGIN:VEVENT
DTSTART:20160811T213000Z
DTEND:20160811T220000Z
X-MICROSOFT-CDO-ALLDAYEVENT:FALSE
SUMMARY:Ribbon Cutting - Primebank
DESCRIPTION:Primebank is celebrating its 125th Anniversary with a ribbon cutting followed by an open house with drinks and food.  From it's beginning as the German State Bank\, Primebank has taken great pride in the relationships they have built and continue to build as they move forward.   Today\, Primebank serves the communities in Plymouth\, Sioux and Woodbury counties\, providing cutting-edge services to meet the needs of its consumer\, commercial\, and agricultural customers.  Please join the Chamber at this event to congratulate Primebank on their longevity and top-notch service to Siouxland!
X-ALT-DESC;FMTTYPE=text/html:Primebank is celebrating its 125<sup>th</sup> Anniversary with a ribbon cutting followed by an open house with drinks and food.&nbsp\; From it&rsquo\;s beginning as the German State Bank\, Primebank has taken great pride in the relationships they have built and continue to build as they move forward.&nbsp\;&nbsp\; Today\, Primebank serves the communities in Plymouth\, Sioux and Woodbury counties\, providing cutting-edge services to meet the needs of its consumer\, commercial\, and agricultural customers. &nbsp\;Please join the Chamber at this event to congratulate Primebank on their longevity and top-notch service to Siouxland!
LOCATION:5680 Sunnybrook Drive Sioux City
UID:e.769.3288
SEQUENCE:3
DTSTAMP:20260421T143534Z
URL:https://directory.siouxlandchamber.com/events/details/ribbon-cutting-primebank-08-11-2016-3288
END:VEVENT

END:VCALENDAR
