BEGIN:VCALENDAR
VERSION:2.0
PRODID:-//ChamberMaster//Event Calendar 2.0//EN
METHOD:PUBLISH
X-PUBLISHED-TTL:P3D
REFRESH-INTERVAL:P3D
CALSCALE:GREGORIAN
BEGIN:VEVENT
DTSTART:20170505T150000Z
DTEND:20170505T153000Z
X-MICROSOFT-CDO-ALLDAYEVENT:FALSE
SUMMARY:Ribbon Cutting - PQH Wireless (Cricket Wireless)\, S Sioux City
DESCRIPTION:New member\, PQH Wireless - Cricket Wireless\, in South Sioux City\, will kick off their Grand Opening weekend with a Chamber ribbon cutting ceremony.  Following the ribbon cutting there will be treats with a Cinco De Mayo theme.  Join them to hear about the wireless services they provide and take advantage of their free activation special along with prizes and giveaways that will run Friday\, Saturday and Sunday.
X-ALT-DESC;FMTTYPE=text/html:New member\, PQH Wireless - Cricket Wireless\, in South Sioux City\, will kick off their Grand Opening weekend with a Chamber ribbon cutting ceremony. &nbsp\;Following the ribbon cutting there will be treats with a Cinco De Mayo theme. &nbsp\;Join them to hear about the wireless services they provide and take advantage of their free activation special along with prizes and giveaways that will run Friday\, Saturday and Sunday.
LOCATION:2601 Cornhusker Drive South Sioux City\, NE
UID:e.769.3488
SEQUENCE:3
DTSTAMP:20260419T230755Z
URL:https://directory.siouxlandchamber.com/events/details/ribbon-cutting-pqh-wireless-cricket-wireless-s-sioux-city-3488
END:VEVENT

END:VCALENDAR
