BEGIN:VCALENDAR
VERSION:2.0
PRODID:-//ChamberMaster//Event Calendar 2.0//EN
METHOD:PUBLISH
X-PUBLISHED-TTL:P3D
REFRESH-INTERVAL:P3D
CALSCALE:GREGORIAN
BEGIN:VEVENT
DTSTART:20170512T150000Z
DTEND:20170512T153000Z
X-MICROSOFT-CDO-ALLDAYEVENT:FALSE
SUMMARY:Ribbon Cutting - PQH Wireless (Cricket Wireless)\, Floyd Blvd
DESCRIPTION:New member\, PQH Wireless - Cricket Wireless\, on Floyd Boulevard\, will kick off their Grand Opening weekend with a Chamber ribbon cutting ceremony.  Join them to hear about the wireless services they provide and take advantage of their free activation special along with prizes and giveaways that will run Friday\, Saturday and Sunday.
X-ALT-DESC;FMTTYPE=text/html:<span style="color: rgb(51\, 51\, 51)\; font-family: sans-serif\, Arial\, Verdana\, &quot\;Trebuchet MS&quot\;\; font-size: 13px\; background-color: rgb(255\, 255\, 255)\;">New member\, PQH Wireless - Cricket Wireless\, on Floyd Boulevard\, will kick off their Grand Opening weekend with a Chamber ribbon cutting ceremony. &nbsp\;Join them to hear about the wireless services they provide and take advantage of their free activation special along with prizes and giveaways that will run Friday\, Saturday and Sunday.</span>
LOCATION:3128 Floyd Boulevard Sioux City\, IA
UID:e.769.3489
SEQUENCE:3
DTSTAMP:20260419T212956Z
URL:https://directory.siouxlandchamber.com/events/details/ribbon-cutting-pqh-wireless-cricket-wireless-floyd-blvd-3489
END:VEVENT

END:VCALENDAR
