BEGIN:VCALENDAR
VERSION:2.0
PRODID:-//ChamberMaster//Event Calendar 2.0//EN
METHOD:PUBLISH
X-PUBLISHED-TTL:P3D
REFRESH-INTERVAL:P3D
CALSCALE:GREGORIAN
BEGIN:VEVENT
DTSTART:20170425T203000Z
DTEND:20170425T210000Z
X-MICROSOFT-CDO-ALLDAYEVENT:FALSE
SUMMARY:Ribbon Cutting - KSCJ Radio / Powell Broadcasting
DESCRIPTION:KSCJ Radio is celebrating 90 years in the broadcasting industry!  In recognition of their success and dedication to Siouxland the Siouxland Chamber and South Sioux City Chamber will hold a ribbon cutting followed by an open house celebration at the Powell Broadcasting Station.  We hope you can join us and share your personal congratulations on their longevity.
X-ALT-DESC;FMTTYPE=text/html:KSCJ Radio is celebrating 90 years in the broadcasting industry! &nbsp\;In recognition of their success and dedication to Siouxland the Siouxland Chamber and South Sioux City Chamber will hold a ribbon cutting followed by an open house celebration at the Powell Broadcasting Station.&nbsp\; We hope you can join us and share your personal congratulations on their longevity.
LOCATION:Powell Broadcasting 2000 Indian Hills Drive Sioux City
UID:e.769.3468
SEQUENCE:3
DTSTAMP:20260419T193826Z
URL:https://directory.siouxlandchamber.com/events/details/ribbon-cutting-powell-broadcasting-3468
END:VEVENT

END:VCALENDAR
