BEGIN:VCALENDAR
VERSION:2.0
PRODID:-//ChamberMaster//Event Calendar 2.0//EN
METHOD:PUBLISH
X-PUBLISHED-TTL:P3D
REFRESH-INTERVAL:P3D
CALSCALE:GREGORIAN
BEGIN:VEVENT
DTSTART:20220930T170000Z
DTEND:20220930T173000Z
X-MICROSOFT-CDO-ALLDAYEVENT:FALSE
SUMMARY:Ribbon Cutting - Port of Sioux City River-Cade Association
DESCRIPTION:Join us in welcoming Port of Sioux City River-Cade Association as a new member. They will be kicking off their River-Cade celebration that has been a part of Siouxland since 1964.
X-ALT-DESC;FMTTYPE=text/html:Join us in welcoming Port of Sioux City River-Cade Association as a new member. They will be kicking off their River-Cade celebration that has been a part of Siouxland since 1964.&nbsp\;
LOCATION:Riverside Park 1301 Riverside Blvd Sioux City\, IA 51109
UID:e.769.5870
SEQUENCE:3
DTSTAMP:20260419T231024Z
URL:https://directory.siouxlandchamber.com/events/details/ribbon-cutting-port-of-sioux-city-river-cade-association-5870
END:VEVENT

END:VCALENDAR
