BEGIN:VCALENDAR
VERSION:2.0
PRODID:-//ChamberMaster//Event Calendar 2.0//EN
METHOD:PUBLISH
X-PUBLISHED-TTL:P3D
REFRESH-INTERVAL:P3D
CALSCALE:GREGORIAN
BEGIN:VEVENT
DTSTART:20190715T220000Z
DTEND:20190715T223000Z
X-MICROSOFT-CDO-ALLDAYEVENT:FALSE
SUMMARY:Ribbon Cutting - PlyWood Trail Foundation
DESCRIPTION:The PlyWood Trail Foundation invite you to join them and celebrate their fundraising kickoff for the PlyWood Trail and to hear exciting updates about the trail.  A ribbon cutting ceremony will take place followed by complimentary appetizers and drinks until 7:00 PM.
X-ALT-DESC;FMTTYPE=text/html:The PlyWood Trail Foundation invite you to join them and celebrate their fundraising kickoff for the PlyWood Trail and to hear exciting updates about the trail.&nbsp\; A ribbon cutting ceremony will take place followed by complimentary appetizers and drinks until 7:00 PM.
LOCATION:Cone Park 3800 Line Drive
UID:e.769.5139
SEQUENCE:3
DTSTAMP:20260421T122402Z
URL:https://directory.siouxlandchamber.com/events/details/ribbon-cutting-plywood-trail-foundation-5139
END:VEVENT

END:VCALENDAR
