BEGIN:VCALENDAR
VERSION:2.0
PRODID:-//ChamberMaster//Event Calendar 2.0//EN
METHOD:PUBLISH
X-PUBLISHED-TTL:P3D
REFRESH-INTERVAL:P3D
CALSCALE:GREGORIAN
BEGIN:VEVENT
DTSTART:20160108T180000Z
DTEND:20160108T183000Z
X-MICROSOFT-CDO-ALLDAYEVENT:FALSE
SUMMARY:Ribbon Cutting - Planet Fitness
DESCRIPTION:A Ribbon Cutting ceremony will be held at Planet Fitness on January 8th to celebrate their Grand Opening.  Grand Opening at 10:00 a.m. with Ribbon Cutting at 12:00 p.m.
X-ALT-DESC;FMTTYPE=text/html:A Ribbon Cutting ceremony will be held at Planet Fitness on January 8th to celebrate their Grand Opening. &nbsp\;Grand Opening at 10:00 a.m. with Ribbon Cutting at 12:00 p.m.
LOCATION:Planet Fitness 6001 Gordon Drive Sioux City
UID:e.769.2202
SEQUENCE:3
DTSTAMP:20260421T160208Z
URL:https://directory.siouxlandchamber.com/events/details/ribbon-cutting-planet-fitness-01-08-2016-2202
END:VEVENT

END:VCALENDAR
