BEGIN:VCALENDAR
VERSION:2.0
PRODID:-//ChamberMaster//Event Calendar 2.0//EN
METHOD:PUBLISH
X-PUBLISHED-TTL:P3D
REFRESH-INTERVAL:P3D
CALSCALE:GREGORIAN
BEGIN:VEVENT
DTSTART:20180515T180000Z
DTEND:20180515T183000Z
X-MICROSOFT-CDO-ALLDAYEVENT:FALSE
SUMMARY:Ribbon Cutting - Plains Area Mental Health Center
DESCRIPTION:Please join us in welcoming Plains Area Mental Health Center to the Siouxland Chamber at their upcoming Ribbon Cutting!  Plains Area Mental Health Center provides affordable\, quality mental health services to the people of the communities they serve\, respecting each individual's dignity\, worth\, and potential for growth.
X-ALT-DESC;FMTTYPE=text/html:Please join us in w<span style="color: rgb(51\, 51\, 51)\; font-family: sans-serif\, Arial\, Verdana\, &quot\;Trebuchet MS&quot\;\; font-size: 13px\; background-color: rgb(255\, 255\, 255)\;">elcoming Plains Area Mental Health Center to the&nbsp\;</span>Siouxland<span style="color: rgb(51\, 51\, 51)\; font-family: sans-serif\, Arial\, Verdana\, &quot\;Trebuchet MS&quot\;\; font-size: 13px\; background-color: rgb(255\, 255\, 255)\;">&nbsp\;Chamber at their upcoming Ribbon Cutting!&nbsp\; Plains Area Mental Health Center provides affordable\, quality mental health services to the people of the communities they serve\, respecting each individual&#39\;s dignity\, worth\, and potential for growth.&nbsp\;</span>
LOCATION:180 10th Street SE\, Ste 201 LeMars\, Iowa
UID:e.769.4719
SEQUENCE:3
DTSTAMP:20260420T163950Z
URL:https://directory.siouxlandchamber.com/events/details/ribbon-cutting-plains-area-mental-health-center-4719
END:VEVENT

END:VCALENDAR
