BEGIN:VCALENDAR
VERSION:2.0
PRODID:-//ChamberMaster//Event Calendar 2.0//EN
METHOD:PUBLISH
X-PUBLISHED-TTL:P3D
REFRESH-INTERVAL:P3D
CALSCALE:GREGORIAN
BEGIN:VEVENT
DTSTART:20180125T213000Z
DTEND:20180125T220000Z
X-MICROSOFT-CDO-ALLDAYEVENT:FALSE
SUMMARY:Ribbon Cutting - Pioneer Bank\, Dakota Dunes
DESCRIPTION:We will celebrate Pioneer Bank's first branch in South Dakota when they host a Chamber ribbon cutting followed by refreshments and tours.  Founded over 110 years ago\, Pioneer Bank's newest full-service branch at the corner of Sioux Point Road and Courtyard Drive is able to meet your banking\, investment and insurance needs.  Please join us in congratulating them on their growth.
X-ALT-DESC;FMTTYPE=text/html:We will celebrate Pioneer Bank&#39\;s first branch in South Dakota when they host a Chamber ribbon cutting followed by refreshments and tours.&nbsp\; Founded over 110 years ago\, Pioneer Bank&#39\;s newest full-service branch at the corner of Sioux Point Road and Courtyard Drive is able to meet your banking\, investment and insurance needs.&nbsp\; Please join us in congratulating them on their growth.
LOCATION:211 Sioux Point Road Dakota Dunes\, SD
UID:e.769.4628
SEQUENCE:3
DTSTAMP:20260420T093312Z
URL:https://directory.siouxlandchamber.com/events/details/ribbon-cutting-pioneer-bank-dakota-dunes-4628
END:VEVENT

END:VCALENDAR
