BEGIN:VCALENDAR
VERSION:2.0
PRODID:-//ChamberMaster//Event Calendar 2.0//EN
METHOD:PUBLISH
X-PUBLISHED-TTL:P3D
REFRESH-INTERVAL:P3D
CALSCALE:GREGORIAN
BEGIN:VEVENT
DTSTART:20160426T213000Z
DTEND:20160426T220000Z
X-MICROSOFT-CDO-ALLDAYEVENT:FALSE
SUMMARY:Ribbon Cutting - Physical Therapy Specialists
DESCRIPTION:Physical Therapy Specialists is holding a Ribbon Cutting Ceremony to celebrate the opening of their Dakota Dunes location.  Please join in the celebration!
X-ALT-DESC;FMTTYPE=text/html:Physical Therapy Specialists is holding a Ribbon Cutting Ceremony to celebrate the opening of their Dakota Dunes location. &nbsp\;Please join in the celebration!
LOCATION:150 Tower Road Dakota Dunes
UID:e.769.3253
SEQUENCE:3
DTSTAMP:20260421T214541Z
URL:https://directory.siouxlandchamber.com/events/details/ribbon-cutting-physical-therapy-specialists-04-26-2016-3253
END:VEVENT

END:VCALENDAR
