BEGIN:VCALENDAR
VERSION:2.0
PRODID:-//ChamberMaster//Event Calendar 2.0//EN
METHOD:PUBLISH
X-PUBLISHED-TTL:P3D
REFRESH-INTERVAL:P3D
CALSCALE:GREGORIAN
BEGIN:VEVENT
DTSTART:20180720T210000Z
DTEND:20180720T213000Z
X-MICROSOFT-CDO-ALLDAYEVENT:FALSE
SUMMARY:Ribbon Cutting - Pflanz Electronics
DESCRIPTION:Pflanz Electronics is cutting the ribbon on 60 years of providing Siouxland with exceptional audio/visual solutions and hope you can join the celebration!  Experience their showroom with over 10 studios and theaters connected to the latest technology.  Always on the cutting edge\, Pflanz offers the newest technology with the most dependable and highest performing brands and backs it up with one of the only in-house service centers in Sioux City.
X-ALT-DESC;FMTTYPE=text/html:Pflanz Electronics is cutting the ribbon on 60 years of providing Siouxland with exceptional audio/visual solutions and hope you can join the celebration!&nbsp\; Experience their showroom with over 10 studios and theaters connected to the latest technology.&nbsp\; Always on the cutting edge\, Pflanz offers the newest technology with the most dependable and highest performing brands and backs it up with one of the only in-house service centers in Sioux City.&nbsp\;&nbsp\;
LOCATION:415 Pavonia Street Sioux City\, IA
UID:e.769.4734
SEQUENCE:3
DTSTAMP:20260420T191507Z
URL:https://directory.siouxlandchamber.com/events/details/ribbon-cutting-pflanz-electronics-4734
END:VEVENT

END:VCALENDAR
