BEGIN:VCALENDAR
VERSION:2.0
PRODID:-//ChamberMaster//Event Calendar 2.0//EN
METHOD:PUBLISH
X-PUBLISHED-TTL:P3D
REFRESH-INTERVAL:P3D
CALSCALE:GREGORIAN
BEGIN:VEVENT
DTSTART:20181012T150000Z
DTEND:20181012T153000Z
X-MICROSOFT-CDO-ALLDAYEVENT:FALSE
SUMMARY:Ribbon Cutting - Peoples Bank\, Hinton
DESCRIPTION:Peoples Bank is pleased to announce that Pinnacle Bank in Sioux City and Hinton are now Peoples Bank.  They will celebrate at the Hinton branch with a Ribbon Cutting and an Open House.  The Pork Producers will be cooking up complimentary pork chops in a glove from 11:00 AM - 1:00 PM.  The outstanding customer service you have grown accustomed to will continue to remain the same\, and the same great staff who has served you as Pinnacle Bank will continue to serve you as Peoples Bank.
X-ALT-DESC;FMTTYPE=text/html:Peoples Bank is pleased to announce that Pinnacle Bank in Sioux City and Hinton are now Peoples Bank.&nbsp\; They will celebrate at the Hinton branch with a Ribbon Cutting and an Open House.&nbsp\; The Pork Producers will be cooking up complimentary pork chops in a glove from 11:00 AM - 1:00 PM.&nbsp\; The outstanding customer service you have grown accustomed to will continue to remain the same\, and the same great staff who has served you as Pinnacle Bank will continue to serve you as Peoples Bank.&nbsp\;&nbsp\;
LOCATION:468 Titan Road Hinton\, IA
UID:e.769.4832
SEQUENCE:3
DTSTAMP:20260420T225451Z
URL:https://directory.siouxlandchamber.com/events/details/ribbon-cutting-peoples-bank-hinton-4832
END:VEVENT

END:VCALENDAR
