BEGIN:VCALENDAR
VERSION:2.0
PRODID:-//ChamberMaster//Event Calendar 2.0//EN
METHOD:PUBLISH
X-PUBLISHED-TTL:P3D
REFRESH-INTERVAL:P3D
CALSCALE:GREGORIAN
BEGIN:VEVENT
DTSTART:20161005T150000Z
DTEND:20161005T153000Z
X-MICROSOFT-CDO-ALLDAYEVENT:FALSE
SUMMARY:Ribbon Cutting - People Ready
DESCRIPTION:People Ready will celebrate their new name and becoming a Chamber Member with a ribbon cutting ceremony with refreshments following.  Formerly Labor Ready\, People Ready puts people to work in good jobs with great companies across the United States and Canada.  Please help us welcome People Ready to the Chamber!
X-ALT-DESC;FMTTYPE=text/html:People Ready will celebrate their new name and becoming a Chamber Member with a ribbon cutting ceremony with refreshments following. &nbsp\;Formerly Labor Ready\, People Ready puts people to work in good jobs with great companies across the United States and Canada. &nbsp\;Please help us welcome People Ready to the Chamber!
LOCATION:323 West 7th Street Sioux City
UID:e.769.3345
SEQUENCE:3
DTSTAMP:20260421T045557Z
URL:https://directory.siouxlandchamber.com/events/details/ribbon-cutting-people-ready-3345
END:VEVENT

END:VCALENDAR
