BEGIN:VCALENDAR
VERSION:2.0
PRODID:-//ChamberMaster//Event Calendar 2.0//EN
METHOD:PUBLISH
X-PUBLISHED-TTL:P3D
REFRESH-INTERVAL:P3D
CALSCALE:GREGORIAN
BEGIN:VEVENT
DTSTART:20171019T183000Z
DTEND:20171019T190000Z
X-MICROSOFT-CDO-ALLDAYEVENT:FALSE
SUMMARY:Ribbon Cutting - Pearl Street Park
DESCRIPTION:A Chamber Ribbon Cutting will be part of the Dedication Ceremony of Sioux City's first downtown park\, Pearl Street Park\, on the corner of 7th and Pearl Streets.  This half-acre park\, made possible through a generous donation by Regina Roth\, co-founder of Beef Products\, Inc.\, includes shaded green space\, a walking path\, amphitheater\, seating areas and tables.
X-ALT-DESC;FMTTYPE=text/html:A Chamber Ribbon Cutting will be part of the Dedication Ceremony of Sioux City&#39\;s first downtown park\, Pearl Street Park\, on the corner of 7th and Pearl Streets. &nbsp\;This half-acre park\, made possible through a generous donation by Regina Roth\, co-founder of Beef Products\, Inc.\, includes shaded green space\, a walking path\, amphitheater\, seating areas and tables.
LOCATION:620 Pearl Street Sioux City
UID:e.769.4576
SEQUENCE:3
DTSTAMP:20260420T061713Z
URL:https://directory.siouxlandchamber.com/events/details/ribbon-cutting-pearl-street-park-4576
END:VEVENT

END:VCALENDAR
