BEGIN:VCALENDAR
VERSION:2.0
PRODID:-//ChamberMaster//Event Calendar 2.0//EN
METHOD:PUBLISH
X-PUBLISHED-TTL:P3D
REFRESH-INTERVAL:P3D
CALSCALE:GREGORIAN
BEGIN:VEVENT
DTSTART:20160422T150000Z
DTEND:20160422T153000Z
X-MICROSOFT-CDO-ALLDAYEVENT:FALSE
SUMMARY:Ribbon Cutting - PC Sweep
DESCRIPTION:PC Sweep\, an electronic recycling & hard drive crushing service\, will hold a Ribbon Cutting ceremony to celebrate being a new Chamber Member.  Please join us and welcome Todd Lindsey with PC Sweep to the Chamber Family.  Ice cream and cake will be served following the ceremony.
X-ALT-DESC;FMTTYPE=text/html:PC Sweep\, an electronic recycling &amp\; hard drive crushing service\, will hold a Ribbon Cutting ceremony to celebrate being a new Chamber Member. &nbsp\;Please join us and welcome Todd Lindsey with PC Sweep to the Chamber Family.&nbsp\; Ice cream and cake will be served following the ceremony.
LOCATION:Gelita USA\, Inc. will host PC Sweep's Ribbon Cutting 2445 Port Neal Industrial Road Sioux City\, IA
UID:e.769.3250
SEQUENCE:3
DTSTAMP:20260421T201036Z
URL:https://directory.siouxlandchamber.com/events/details/ribbon-cutting-pc-sweep-04-22-2016-3250
END:VEVENT

END:VCALENDAR
