BEGIN:VCALENDAR
VERSION:2.0
PRODID:-//ChamberMaster//Event Calendar 2.0//EN
METHOD:PUBLISH
X-PUBLISHED-TTL:P3D
REFRESH-INTERVAL:P3D
CALSCALE:GREGORIAN
BEGIN:VEVENT
DTSTART:20230123T180000Z
DTEND:20230123T183000Z
X-MICROSOFT-CDO-ALLDAYEVENT:FALSE
SUMMARY:Ribbon Cutting - Opportunities Unlimited
DESCRIPTION:Join us as we cut the ribbon to celebrate Opportunities Unlimited's renovated homes. \n\n\n\nOpportunities Unlimited has been providing residential and rehabilitation services for individuals with brain injuries and other special needs for 30 years. Their intermediate residential program serves individuals who require assistance with self-cares and other skills needed to live in the community in a more independent setting. OU has recently completed a remodel of one of the homes which will further support individuals of all mobility levels\, allowing persons served to thrive in a home environment supporting their independence. The homes include four bedrooms which each have their own half bath\, a large bathroom with a whirlpool tub and shower\, a large living room area\, dining room\, accessible kitchen\, and laundry facilities.
X-ALT-DESC;FMTTYPE=text/html:Join us as we cut the ribbon to celebrate Opportunities Unlimited&#39\;s renovated homes.&nbsp\;<br />\n<br />\nOpportunities Unlimited has been providing residential and rehabilitation services for individuals with brain injuries and other special needs for 30 years. Their intermediate residential program serves individuals who require assistance with self-cares and other skills needed to live in the community in a more independent setting. OU has recently completed a remodel of one of the homes which will further support individuals of all mobility levels\, allowing persons served to thrive in a home environment supporting their independence. The homes include four bedrooms which each have their own half bath\, a large bathroom with a whirlpool tub and shower\, a large living room area\, dining room\, accessible kitchen\, and laundry facilities.&nbsp\;<br />\n&nbsp\;
LOCATION:Woodridge Home 3536 Glen Oaks Blvd. Sioux City\, IA 51104
UID:e.769.5957
SEQUENCE:3
DTSTAMP:20260419T171112Z
URL:https://directory.siouxlandchamber.com/events/details/ribbon-cutting-opportunities-unlimited-5957
END:VEVENT

END:VCALENDAR
