BEGIN:VCALENDAR
VERSION:2.0
PRODID:-//ChamberMaster//Event Calendar 2.0//EN
METHOD:PUBLISH
X-PUBLISHED-TTL:P3D
REFRESH-INTERVAL:P3D
CALSCALE:GREGORIAN
BEGIN:VEVENT
DTSTART:20180413T160000Z
DTEND:20180413T163000Z
X-MICROSOFT-CDO-ALLDAYEVENT:FALSE
SUMMARY:Ribbon Cutting - Olson's Pest Technicians
DESCRIPTION:We will welcome Olson's Pest Technicians to the Chamber with a ribbon cutting to be held at the Chamber Office.  Olson's Pest Technicians are  your residential and commercial pest control solution for mice\, rats\, spiders\, crickets\, boxelder bugs\, roaches\, wasps\, bedbugs\, birds termites\, bats\, moles and voles.  Family owned since 1966 they provide extensive coverage for the Upper Midwest.
X-ALT-DESC;FMTTYPE=text/html:We will welcome Olson&#39\;s Pest Technicians to the Chamber with a ribbon cutting to be held at the Chamber Office.&nbsp\; Olson&#39\;s Pest Technicians are&nbsp\; your residential and commercial pest control solution for mice\, rats\, spiders\, crickets\, boxelder bugs\, roaches\, wasps\, bedbugs\, birds termites\, bats\, moles and voles.&nbsp\; Family owned since 1966 they provide extensive coverage for the Upper Midwest.
LOCATION:Hosted at the Siouxland Chamber 101 Pierce Street
UID:e.769.4672
SEQUENCE:3
DTSTAMP:20260420T133021Z
URL:https://directory.siouxlandchamber.com/events/details/ribbon-cutting-olson-s-pest-technicians-4672
END:VEVENT

END:VCALENDAR
