BEGIN:VCALENDAR
VERSION:2.0
PRODID:-//ChamberMaster//Event Calendar 2.0//EN
METHOD:PUBLISH
X-PUBLISHED-TTL:P3D
REFRESH-INTERVAL:P3D
CALSCALE:GREGORIAN
BEGIN:VEVENT
DTSTART:20180711T210000Z
DTEND:20180711T213000Z
X-MICROSOFT-CDO-ALLDAYEVENT:FALSE
SUMMARY:Ribbon Cutting - Old Chicago Pizza and Taproom
DESCRIPTION:Old Chicago Pizza and Taproom recently doubled their seating capacity\, added yard/patio games\, and will be starting live music on Wednesday nights (starting July 11th).  Come play at their upcoming Ribbon Cutting and enjoy complimentary appetizers and drinks for Chamber Members.
X-ALT-DESC;FMTTYPE=text/html:Old Chicago Pizza and Taproom recently doubled their seating capacity\, added yard/patio games\, and will be starting live music on Wednesday nights (starting July 11th).&nbsp\; Come play at their upcoming Ribbon Cutting and enjoy complimentary appetizers and drinks for Chamber Members.&nbsp\;&nbsp\;
LOCATION:5030 Sergeant Road SIoux City
UID:e.769.4790
SEQUENCE:3
DTSTAMP:20260420T180540Z
URL:https://directory.siouxlandchamber.com/events/details/ribbon-cutting-old-chicago-pizza-and-taproom-4790
END:VEVENT

END:VCALENDAR
