BEGIN:VCALENDAR
VERSION:2.0
PRODID:-//ChamberMaster//Event Calendar 2.0//EN
METHOD:PUBLISH
X-PUBLISHED-TTL:P3D
REFRESH-INTERVAL:P3D
CALSCALE:GREGORIAN
BEGIN:VEVENT
DTSTART:20171016T210000Z
DTEND:20171016T213000Z
X-MICROSOFT-CDO-ALLDAYEVENT:FALSE
SUMMARY:Ribbon Cutting - Northwestern Mutual
DESCRIPTION:Northwestern Mutual has moved their Dakota Dunes location to downtown Sioux City and invite you to visit their new office at their upcoming Ribbon Cutting followed by an Open House until 6:00 PM.  Northwestern Mutual helps protect and grow your financial security through both investments and insurance.
X-ALT-DESC;FMTTYPE=text/html:Northwestern Mutual has moved their Dakota Dunes location to downtown Sioux City and invite you to visit their new office at their upcoming Ribbon Cutting followed by an Open House until 6:00 PM. &nbsp\;Northwestern Mutual helps protect and grow your financial security through both investments and insurance.
LOCATION:501 Pierce Street\, Suite 400 Sioux City
UID:e.769.3565
SEQUENCE:3
DTSTAMP:20260420T061424Z
URL:https://directory.siouxlandchamber.com/events/details/ribbon-cutting-northwestern-mutual-3565
END:VEVENT

END:VCALENDAR
