BEGIN:VCALENDAR
VERSION:2.0
PRODID:-//ChamberMaster//Event Calendar 2.0//EN
METHOD:PUBLISH
X-PUBLISHED-TTL:P3D
REFRESH-INTERVAL:P3D
CALSCALE:GREGORIAN
BEGIN:VEVENT
DTSTART:20200220T160000Z
DTEND:20200220T163000Z
X-MICROSOFT-CDO-ALLDAYEVENT:FALSE
SUMMARY:Ribbon Cutting - North Sioux Dental Clinic
DESCRIPTION:Please join us for a Ribbon Cutting celebrating the newest dental technology at North Sioux Dental Clinic.  The Ribbon Cutting will be held in conjunction with the Dakota Valley Business Council Coffee.
X-ALT-DESC;FMTTYPE=text/html:Please join us for a Ribbon Cutting celebrating the newest dental technology at North Sioux Dental Clinic.&nbsp\; The Ribbon Cutting will be held in conjunction with the Dakota Valley Business Council Coffee.
LOCATION:101 Merrill Avenue North Sioux City\, SD 57049
UID:e.769.5346
SEQUENCE:3
DTSTAMP:20260421T213555Z
URL:https://directory.siouxlandchamber.com/events/details/ribbon-cutting-north-sioux-dental-clinic-5346
END:VEVENT

END:VCALENDAR
