BEGIN:VCALENDAR
VERSION:2.0
PRODID:-//ChamberMaster//Event Calendar 2.0//EN
METHOD:PUBLISH
X-PUBLISHED-TTL:P3D
REFRESH-INTERVAL:P3D
CALSCALE:GREGORIAN
BEGIN:VEVENT
DTSTART:20230123T220000Z
DTEND:20230123T223000Z
X-MICROSOFT-CDO-ALLDAYEVENT:FALSE
SUMMARY:Ribbon Cutting - Norm Waitt Sr. YMCA
DESCRIPTION:Join us as we celebrate Norm Waitt Sr. YMCA's new infant and toddler childcare room. This opening will add 12 additional childcare openings to their youth development programming. They are now accepting enrollment for children 6 weeks to 3 years old. The room will provide high-quality childcare and education for infants and toddlers in the community with the ability to transition into their Y Preschool program. \n\n \n\nThe Early Learning infant/toddler childcare room is phase 1 of the Y's Early Learning and Youth Development Center\, which will offer a range of childcare and early education services for children from infancy to Siouxland teen programming.
X-ALT-DESC;FMTTYPE=text/html:<span style="font-family:verdana\,sans-serif\;">Join us as we celebrate Norm Waitt Sr. YMCA&#39\;s new infant and toddler childcare room. This opening will add 12 additional childcare openings to their youth development programming. They are now accepting enrollment for children 6 weeks to 3 years old. The room will provide high-quality childcare and education for infants and toddlers in the community with the ability to transition into their Y Preschool program.&nbsp\;</span><br />\n&nbsp\;<br />\n<span style="font-family:verdana\,sans-serif\;">The Early Learning infant/toddler childcare room is phase 1 of the Y&#39\;s Early Learning and Youth Development Center\, which will offer a range of childcare and early education services for children from infancy to Siouxland teen programming.</span>
LOCATION:601 Riverview Dr South Sioux City\, NE 68776
UID:e.769.5960
SEQUENCE:3
DTSTAMP:20260419T171010Z
URL:https://directory.siouxlandchamber.com/events/details/ribbon-cutting-norm-waitt-sr-ymca-5960
END:VEVENT

END:VCALENDAR
