BEGIN:VCALENDAR
VERSION:2.0
PRODID:-//ChamberMaster//Event Calendar 2.0//EN
METHOD:PUBLISH
X-PUBLISHED-TTL:P3D
REFRESH-INTERVAL:P3D
CALSCALE:GREGORIAN
BEGIN:VEVENT
DTSTART:20180503T210000Z
DTEND:20180503T213000Z
X-MICROSOFT-CDO-ALLDAYEVENT:FALSE
SUMMARY:Ribbon Cutting - NextHome TriState Realty
DESCRIPTION:Welcome Siouxland's newest real estate office\, NextHome TriState Realty!  Please join us at their upcoming Ribbon Cutting followed by an Open House until 7:00 PM. NextHome TriState Realty's mission is to provide quality systems\, tools\, and customer service\, so that they offer the best home buying and selling experience in the area.
X-ALT-DESC;FMTTYPE=text/html:Welcome Siouxland&#39\;s newest real estate office\, NextHome TriState Realty!&nbsp\; Please join us at their upcoming Ribbon Cutting followed by an Open House until 7:00 PM. NextHome TriState Realty&#39\;s mission is to provide quality systems\, tools\, and customer service\, so that they offer the best home buying and selling experience in the area.&nbsp\;&nbsp\;
LOCATION:522 4th Street\, Suite 310 Sioux City
UID:e.769.4690
SEQUENCE:3
DTSTAMP:20260420T163716Z
URL:https://directory.siouxlandchamber.com/events/details/ribbon-cutting-nexthome-tristate-realty-4690
END:VEVENT

END:VCALENDAR
