BEGIN:VCALENDAR
VERSION:2.0
PRODID:-//ChamberMaster//Event Calendar 2.0//EN
METHOD:PUBLISH
X-PUBLISHED-TTL:P3D
REFRESH-INTERVAL:P3D
CALSCALE:GREGORIAN
BEGIN:VEVENT
DTSTART:20170822T193000Z
DTEND:20170822T200000Z
X-MICROSOFT-CDO-ALLDAYEVENT:FALSE
SUMMARY:Ribbon Cutting - Natalia's Bakery and Restaurant
DESCRIPTION:Natalia's Bakery and Restaurant has joined the Chamber and we will give them a Green Coat Welcome at their upcoming ribbon cutting.  Natalia's serves specialty breads\, pastries and meals.  Please join us and welcome Natalia's Bakery and Restaurant to the Siouxland Chamber.
X-ALT-DESC;FMTTYPE=text/html:Natalia&#39\;s Bakery and Restaurant has joined the Chamber and we will give them a Green Coat Welcome at their upcoming ribbon cutting. &nbsp\;Natalia&#39\;s serves specialty breads\, pastries and meals. &nbsp\;Please join us and welcome Natalia&#39\;s Bakery and Restaurant to the Siouxland Chamber.
LOCATION:2025 Court Street\, Sioux City
UID:e.769.3545
SEQUENCE:3
DTSTAMP:20260420T015518Z
URL:https://directory.siouxlandchamber.com/events/details/ribbon-cutting-natalia-s-bakery-and-restaurant-3545
END:VEVENT

END:VCALENDAR
