BEGIN:VCALENDAR
VERSION:2.0
PRODID:-//ChamberMaster//Event Calendar 2.0//EN
METHOD:PUBLISH
X-PUBLISHED-TTL:P3D
REFRESH-INTERVAL:P3D
CALSCALE:GREGORIAN
BEGIN:VEVENT
DTSTART:20180531T153000Z
DTEND:20180531T160000Z
X-MICROSOFT-CDO-ALLDAYEVENT:FALSE
SUMMARY:Ribbon Cutting - Mozak's Furniture and Flooring
DESCRIPTION:Mozak's Furniture & Flooring will unveil their kitchen and bath showroom at their upcoming ribbon cutting.  Please join us and congratulate them on their improvements.  Mozak's is a locally owned store whose showroom is displayed and accessorized to help you visualize your new furniture in your home.
X-ALT-DESC;FMTTYPE=text/html:Mozak&#39\;s Furniture &amp\; Flooring will unveil their kitchen and bath showroom at their upcoming ribbon cutting.&nbsp\; Please join us and congratulate them on their improvements.&nbsp\; Mozak&#39\;s&nbsp\;is a locally owned store whose showroom is displayed and accessorized to help you visualize your new furniture in your home.
LOCATION:2414 Gordon Drive Sioux City
UID:e.769.4725
SEQUENCE:3
DTSTAMP:20260420T163949Z
URL:https://directory.siouxlandchamber.com/events/details/ribbon-cutting-mozak-s-furniture-and-flooring-4725
END:VEVENT

END:VCALENDAR
