BEGIN:VCALENDAR
VERSION:2.0
PRODID:-//ChamberMaster//Event Calendar 2.0//EN
METHOD:PUBLISH
X-PUBLISHED-TTL:P3D
REFRESH-INTERVAL:P3D
CALSCALE:GREGORIAN
BEGIN:VEVENT
DTSTART:20200423T213000Z
DTEND:20200423T220000Z
X-MICROSOFT-CDO-ALLDAYEVENT:FALSE
SUMMARY:Ribbon Cutting - Moore Corbett Law Firm - POSTPONED
DESCRIPTION:Please join us in celebrating Siouxland Chamber of Commerce member\, Moore Corbett Law Firm\, on their recent merger and re-naming. Ribbon Cutting will be at 4:30pm with open house to follow.
X-ALT-DESC;FMTTYPE=text/html:Please join us in celebrating Siouxland Chamber of Commerce member\, Moore Corbett Law Firm\, on their recent merger and re-naming. Ribbon Cutting will be at 4:30pm with open house to follow.&nbsp\;
LOCATION:501 Pierce Street Suite 300 Sioux City\, IA
UID:e.769.5321
SEQUENCE:3
DTSTAMP:20260421T184929Z
URL:https://directory.siouxlandchamber.com/events/details/ribbon-cutting-moore-corbett-law-firm-postponed-5321
END:VEVENT

END:VCALENDAR
