BEGIN:VCALENDAR
VERSION:2.0
PRODID:-//ChamberMaster//Event Calendar 2.0//EN
METHOD:PUBLISH
X-PUBLISHED-TTL:P3D
REFRESH-INTERVAL:P3D
CALSCALE:GREGORIAN
BEGIN:VEVENT
DTSTART:20191104T200000Z
DTEND:20191104T203000Z
X-MICROSOFT-CDO-ALLDAYEVENT:FALSE
SUMMARY:Ribbon Cutting - Moore Bonding Company
DESCRIPTION:Please join us in celebrating new Siouxland Chamber of Commerce member\, Moore Bonding Company\, at their Ribbon Cutting ceremony.
X-ALT-DESC;FMTTYPE=text/html:Please join us in celebrating new Siouxland Chamber of Commerce member\, Moore Bonding Company\, at their Ribbon Cutting ceremony.&nbsp\;
LOCATION:1909 Highway 20 Lawton\, IA 51030
UID:e.769.5229
SEQUENCE:3
DTSTAMP:20260421T193909Z
URL:https://directory.siouxlandchamber.com/events/details/ribbon-cutting-moore-bonding-company-5229
END:VEVENT

END:VCALENDAR
