BEGIN:VCALENDAR
VERSION:2.0
PRODID:-//ChamberMaster//Event Calendar 2.0//EN
METHOD:PUBLISH
X-PUBLISHED-TTL:P3D
REFRESH-INTERVAL:P3D
CALSCALE:GREGORIAN
BEGIN:VEVENT
DTSTART:20170106T180000Z
DTEND:20170106T183000Z
X-MICROSOFT-CDO-ALLDAYEVENT:FALSE
SUMMARY:Ribbon Cutting - Mode
DESCRIPTION:The Siouxland Chamber will welcome new member\, Mode\, with a ribbon cutting ceremony followed by a VIP Party for Chamber members with refreshments and personal shopping available.  Mode is a designer outlet store in a boutique environment offering women's clothing and accessories.
X-ALT-DESC;FMTTYPE=text/html:The Siouxland Chamber will welcome new member\, Mode\, with a ribbon cutting ceremony followed by a VIP Party for Chamber members with refreshments and personal shopping available. &nbsp\;Mode is a designer outlet store in a boutique environment offering women&#39\;s clothing and accessories. &nbsp\;
LOCATION:5001 Sergeant Road Suite 265 Sioux City
UID:e.769.3427
SEQUENCE:3
DTSTAMP:20260419T151056Z
URL:https://directory.siouxlandchamber.com/events/details/ribbon-cutting-mode-3427
END:VEVENT

END:VCALENDAR
