BEGIN:VCALENDAR
VERSION:2.0
PRODID:-//ChamberMaster//Event Calendar 2.0//EN
METHOD:PUBLISH
X-PUBLISHED-TTL:P3D
REFRESH-INTERVAL:P3D
CALSCALE:GREGORIAN
BEGIN:VEVENT
DTSTART:20170524T203000Z
DTEND:20170524T223000Z
X-MICROSOFT-CDO-ALLDAYEVENT:FALSE
SUMMARY:Ribbon Cutting - Mitchell Electric
DESCRIPTION:Mitchell Electric\, a premier\, family-owned electrical contractor\, has moved to a new location in North Sioux City.  To celebrate they will host a ribbon cutting ceremony followed by drinks and munchies.  We hope you can join us for the fun and a look at the new space.
X-ALT-DESC;FMTTYPE=text/html:Mitchell Electric\, a premier\, family-owned electrical contractor\, has moved to a new location in North Sioux City. &nbsp\;To celebrate they will host a ribbon cutting ceremony followed by drinks and munchies. &nbsp\;We hope you can join us for the fun and a look at the new space.
LOCATION:717 N Derby Lane\, Suite C North Sioux City\, SD
UID:e.769.3487
SEQUENCE:3
DTSTAMP:20260419T212441Z
URL:https://directory.siouxlandchamber.com/events/details/ribbon-cutting-mitchell-electric-3487
END:VEVENT

END:VCALENDAR
