BEGIN:VCALENDAR
VERSION:2.0
PRODID:-//ChamberMaster//Event Calendar 2.0//EN
METHOD:PUBLISH
X-PUBLISHED-TTL:P3D
REFRESH-INTERVAL:P3D
CALSCALE:GREGORIAN
BEGIN:VEVENT
DTSTART:20160720T223000Z
DTEND:20160720T233000Z
X-MICROSOFT-CDO-ALLDAYEVENT:FALSE
SUMMARY:Ribbon Cutting - Miracle League of Sioux City
DESCRIPTION:The Miracle League of Sioux City will hold a ribbon cutting ceremony to celebrate the completion of the splash pad\, mini golf course\, and walking trail.  The Miracle League is an organization that provides recreational opportunities for children and adults with disabilities.  Please join us in congratulating Miracle League on the completion of phase 2\, an addition to the baseball field and inclusive playground which opened last year.
X-ALT-DESC;FMTTYPE=text/html:The Miracle League of Sioux City will hold a ribbon cutting ceremony to celebrate the completion of the splash pad\, mini golf course\, and walking trail. &nbsp\;The Miracle League is an organization that provides recreational opportunities for children and adults with disabilities. &nbsp\;Please join us in congratulating Miracle League on the completion of phase 2\, an addition to the baseball field and inclusive playground which opened last year.
LOCATION:1001 Riverside Boulevard Sioux City
UID:e.769.3299
SEQUENCE:3
DTSTAMP:20260421T174907Z
URL:https://directory.siouxlandchamber.com/events/details/ribbon-cutting-miracle-league-of-sioux-city-07-20-2016-3299
END:VEVENT

END:VCALENDAR
