BEGIN:VCALENDAR
VERSION:2.0
PRODID:-//ChamberMaster//Event Calendar 2.0//EN
METHOD:PUBLISH
X-PUBLISHED-TTL:P3D
REFRESH-INTERVAL:P3D
CALSCALE:GREGORIAN
BEGIN:VEVENT
DTSTART:20170228T200000Z
DTEND:20170228T203000Z
X-MICROSOFT-CDO-ALLDAYEVENT:FALSE
SUMMARY:Ribbon Cutting - MINT Marketing & Consulting
DESCRIPTION:We will give the official Chamber welcome to new member MINT Marketing & Consulting with a ribbon cutting to be held at the Siouxland Chamber.  Come meet Blake Javelov and learn about MINT which is a company that works with small to medium sized businesses that use social media as a source of advertising and marketing.
X-ALT-DESC;FMTTYPE=text/html:We will give the official Chamber welcome to new member MINT Marketing &amp\; Consulting with a ribbon cutting to be held at the Siouxland&nbsp\;Chamber. &nbsp\;Come meet Blake Javelov&nbsp\;and learn about MINT which is a company that works with small to medium sized businesses that use social media as a source of advertising and marketing. &nbsp\;
LOCATION:Hosted by the Siouxland Chamber 101 Pierce Street
UID:e.769.3451
SEQUENCE:3
DTSTAMP:20260419T181749Z
URL:https://directory.siouxlandchamber.com/events/details/ribbon-cutting-mint-marketing-consulting-3451
END:VEVENT

END:VCALENDAR
