BEGIN:VCALENDAR
VERSION:2.0
PRODID:-//ChamberMaster//Event Calendar 2.0//EN
METHOD:PUBLISH
X-PUBLISHED-TTL:P3D
REFRESH-INTERVAL:P3D
CALSCALE:GREGORIAN
BEGIN:VEVENT
DTSTART:20191218T223000Z
DTEND:20191218T230000Z
X-MICROSOFT-CDO-ALLDAYEVENT:FALSE
SUMMARY:Ribbon Cutting - Midwest Welding and Mechanical Academy
DESCRIPTION:Please join us in welcoming new Siouxland Chamber member\, Midwest Welding & Mechanical Academy\, with a Ribbon Cutting.
X-ALT-DESC;FMTTYPE=text/html:Please join us in welcoming new Siouxland Chamber member\, Midwest Welding &amp\; Mechanical Academy\, with a Ribbon Cutting.
LOCATION:3300 Northbrook Drive Suite A Sioux City\, IA 51105
UID:e.769.5300
SEQUENCE:3
DTSTAMP:20260421T211553Z
URL:https://directory.siouxlandchamber.com/events/details/ribbon-cutting-midwest-welding-and-mechanical-academy-5300
END:VEVENT

END:VCALENDAR
