BEGIN:VCALENDAR
VERSION:2.0
PRODID:-//ChamberMaster//Event Calendar 2.0//EN
METHOD:PUBLISH
X-PUBLISHED-TTL:P3D
REFRESH-INTERVAL:P3D
CALSCALE:GREGORIAN
BEGIN:VEVENT
DTSTART:20170217T153000Z
DTEND:20170217T160000Z
X-MICROSOFT-CDO-ALLDAYEVENT:FALSE
SUMMARY:Ribbon Cutting - Midwest Medical Transport Company
DESCRIPTION:We will welcome new member Midwest Medical Transport Company to the Chamber with a ribbon cutting ceremony.  Offering private ambulance service\, Midwest Medical Transport Company's fleet of state of the art ambulances\, medical helicopters and para-transit wheelchair vans are ready at a moment's notice.  Please join us in thanking them for their investment in the Chamber.
X-ALT-DESC;FMTTYPE=text/html:We will welcome new member Midwest Medical Transport Company to the Chamber with a ribbon cutting ceremony. &nbsp\;Offering private ambulance service\, Midwest Medical Transport Company&#39\;s fleet of state of the art ambulances\, medical helicopters and para-transit wheelchair vans are ready at a moment&#39\;s notice. &nbsp\;Please join us in thanking them for their investment in the Chamber.
LOCATION:1015 Court Street Sioux City
UID:e.769.3440
SEQUENCE:3
DTSTAMP:20260419T165512Z
URL:https://directory.siouxlandchamber.com/events/details/ribbon-cutting-midwest-medical-transport-company-3440
END:VEVENT

END:VCALENDAR
