BEGIN:VCALENDAR
VERSION:2.0
PRODID:-//ChamberMaster//Event Calendar 2.0//EN
METHOD:PUBLISH
X-PUBLISHED-TTL:P3D
REFRESH-INTERVAL:P3D
CALSCALE:GREGORIAN
BEGIN:VEVENT
DTSTART:20161117T233000Z
DTEND:20161117T234500Z
X-MICROSOFT-CDO-ALLDAYEVENT:FALSE
SUMMARY:Ribbon Cutting - Midlands Cosmetic Dermatology and Skincare
DESCRIPTION:We are welcoming Midlands Cosmetic Dermatology and Skincare to the Siouxland Chamber with a Ribbon Cutting.  Whether it's reversing the aging process\, treating the blemishes of time\, scars\, or acne\, Midlands Cosmetics is committed to helping your skin be its best.\n\n\n\nPlease join us for the Ribbon Cutting during November's Rush Hour Connect hosted by Midlands Cosmetic Dermatology and Skincare.  The first 30 guests will receive an exclusive gift bag!
X-ALT-DESC;FMTTYPE=text/html:We are welcoming Midlands Cosmetic Dermatology and Skincare to the Siouxland Chamber with a Ribbon Cutting. &nbsp\;Whether it&#39\;s reversing the aging process\, treating the blemishes of time\, scars\, or acne\, Midlands Cosmetics is committed to helping your skin be its best.<br />\n<br />\nPlease join us for the Ribbon Cutting during November&#39\;s Rush Hour Connect hosted by Midlands Cosmetic Dermatology and Skincare. &nbsp\;The first 30 guests will receive an exclusive gift bag!
LOCATION:4301 Sergeant Road\, Suite 120 Sioux City
UID:e.769.3340
SEQUENCE:3
DTSTAMP:20260419T135106Z
URL:https://directory.siouxlandchamber.com/events/details/ribbon-cutting-midlands-cosmetic-dermatology-and-skincare-3340
END:VEVENT

END:VCALENDAR
