BEGIN:VCALENDAR
VERSION:2.0
PRODID:-//ChamberMaster//Event Calendar 2.0//EN
METHOD:PUBLISH
X-PUBLISHED-TTL:P3D
REFRESH-INTERVAL:P3D
CALSCALE:GREGORIAN
BEGIN:VEVENT
DTSTART:20191016T210000Z
DTEND:20191016T213000Z
X-MICROSOFT-CDO-ALLDAYEVENT:FALSE
SUMMARY:Ribbon Cutting - Midlands Clinic/Vascular & Intervention
DESCRIPTION:Please join us in welcoming new Siouxland Chamber member\, Midlands Clinic/Vascular and Intervention at their Ribbon Cutting.
X-ALT-DESC;FMTTYPE=text/html:Please join us in welcoming new Siouxland Chamber member\, Midlands Clinic/Vascular and Intervention at their Ribbon Cutting.&nbsp\;
LOCATION:345 West Steamboat Drive #601 Dakota Dunes\, SD 57049
UID:e.769.5209
SEQUENCE:3
DTSTAMP:20260421T181402Z
URL:https://directory.siouxlandchamber.com/events/details/ribbon-cutting-midlands-clinic-vascular-intervention-5209
END:VEVENT

END:VCALENDAR
