BEGIN:VCALENDAR
VERSION:2.0
PRODID:-//ChamberMaster//Event Calendar 2.0//EN
METHOD:PUBLISH
X-PUBLISHED-TTL:P3D
REFRESH-INTERVAL:P3D
CALSCALE:GREGORIAN
BEGIN:VEVENT
DTSTART:20200214T160000Z
DTEND:20200214T163000Z
X-MICROSOFT-CDO-ALLDAYEVENT:FALSE
SUMMARY:Ribbon Cutting - MercyOne Siouxland Medical Center
DESCRIPTION:Please join us at a Ribbon Cutting celebrating the new Interventional Radiology Suite at MercyOne Siouxland
X-ALT-DESC;FMTTYPE=text/html:Please join us at a Ribbon Cutting celebrating the new Interventional Radiology Suite at MercyOne Siouxland&nbsp\;
LOCATION:801 5th Street Sioux City\, IA 51101 Park for free in hospital ramp and enter through the Heart Center or South Lobby (gift shop) entrance on 5th Street. Greeters will be present to direct attendees to imaging on the 4th floor.
UID:e.769.5343
SEQUENCE:3
DTSTAMP:20260421T224728Z
URL:https://directory.siouxlandchamber.com/events/details/ribbon-cutting-mercyone-siouxland-medical-center-5343
END:VEVENT

END:VCALENDAR
