BEGIN:VCALENDAR
VERSION:2.0
PRODID:-//ChamberMaster//Event Calendar 2.0//EN
METHOD:PUBLISH
X-PUBLISHED-TTL:P3D
REFRESH-INTERVAL:P3D
CALSCALE:GREGORIAN
BEGIN:VEVENT
DTSTART:20221114T180000Z
DTEND:20221114T183000Z
X-MICROSOFT-CDO-ALLDAYEVENT:FALSE
SUMMARY:Ribbon Cutting - MercyOne Medical Center
DESCRIPTION:MercyOne's Singing Hills Urgent Care in Sioux City is moving! Starting November 14\, the clinic will open its doors at 3500 Singing Hills Boulevard\, a stone's throw away from its current location. Patients visiting the clinic will receive the same convenient\, quality urgent care they've come to expect from MercyOne. Patients who need care can just walk in\, appointments are never necessary. MercyOne Singing Hills Urgent Care's new Sioux City location is open Monday-Friday from 8 a.m. to 7 p.m.\, Saturday from 9 a.m. to 5 p.m.\, and Sunday from noon to 5 p.m. To learn more about the services offered at the new MercyOne's Singing Hills Urgent Care location\, visit here.
X-ALT-DESC;FMTTYPE=text/html:<span style="font-size:10.5pt\;">MercyOne&#39\;s Singing Hills Urgent Care in Sioux City is moving! Starting November 14\, the clinic will open its doors at 3500 Singing Hills Boulevard\, a stone&#39\;s throw away from its current location. Patients visiting the clinic will receive the same convenient\, quality urgent care they&#39\;ve come to expect from MercyOne. Patients who need care can just walk in\, appointments are never necessary. MercyOne Singing Hills Urgent Care&#39\;s new Sioux City location is open Monday-Friday from 8 a.m. to 7 p.m.\, Saturday from 9 a.m. to 5 p.m.\, and Sunday from noon to 5 p.m. To learn more about the services offered at the new MercyOne&#39\;s Singing Hills Urgent Care location\, visit </span><a href="https://www.mercyone.org/siouxland/find-a-service-or-specialty/urgent-care"><span style="font-size:10.5pt\;">here</span></a><span style="font-size:10.5pt\;">.</span>
LOCATION:3500 Singing Hills Boulevard Sioux City\, IA 51106
UID:e.769.5890
SEQUENCE:3
DTSTAMP:20260419T195858Z
URL:https://directory.siouxlandchamber.com/events/details/ribbon-cutting-mercyone-medical-center-5890
END:VEVENT

END:VCALENDAR
