BEGIN:VCALENDAR
VERSION:2.0
PRODID:-//ChamberMaster//Event Calendar 2.0//EN
METHOD:PUBLISH
X-PUBLISHED-TTL:P3D
REFRESH-INTERVAL:P3D
CALSCALE:GREGORIAN
BEGIN:VEVENT
DTSTART:20230215T180000Z
DTEND:20230215T183000Z
X-MICROSOFT-CDO-ALLDAYEVENT:FALSE
SUMMARY:Ribbon Cutting - MercyOne Dakota Dunes Urgent Care
DESCRIPTION:Join us as we welcome MerceyOne Dakota Dunes Urgent Care as a new member.
X-ALT-DESC;FMTTYPE=text/html:<font face="arial\, sans-serif"><span style="font-size: 13.3333px\;">Join us as we welcome MerceyOne Dakota Dunes Urgent Care as a new member.&nbsp\;</span></font><br />\n&nbsp\;
LOCATION:330 Dakota Dunes Blvd. Dakota Dunes\, SD 57049
UID:e.769.5964
SEQUENCE:3
DTSTAMP:20260419T152435Z
URL:https://directory.siouxlandchamber.com/events/details/ribbon-cutting-mercyone-dakota-dunes-urgent-care-5964
END:VEVENT

END:VCALENDAR
