BEGIN:VCALENDAR
VERSION:2.0
PRODID:-//ChamberMaster//Event Calendar 2.0//EN
METHOD:PUBLISH
X-PUBLISHED-TTL:P3D
REFRESH-INTERVAL:P3D
CALSCALE:GREGORIAN
BEGIN:VEVENT
DTSTART:20200207T160000Z
DTEND:20200207T163000Z
X-MICROSOFT-CDO-ALLDAYEVENT:FALSE
SUMMARY:Ribbon Cutting - MercyOne Dakota Dunes Heart and Vascular Center Clinic
DESCRIPTION:Please join us for a Ribbon Cutting celebrating new Siouxland Chamber of Commerce member\, MercyOne Dakota Dunes Heart and Vascular Center Clinic.
X-ALT-DESC;FMTTYPE=text/html:Please join us for a Ribbon Cutting celebrating new Siouxland Chamber of Commerce member\, MercyOne Dakota Dunes Heart and Vascular Center Clinic.&nbsp\;
LOCATION:711 Sioux Point Road Suite 100 Dakota Dunes\, SD 57049
UID:e.769.5340
SEQUENCE:3
DTSTAMP:20260421T213851Z
URL:https://directory.siouxlandchamber.com/events/details/ribbon-cutting-mercyone-dakota-dunes-heart-and-vascular-center-clinic-5340
END:VEVENT

END:VCALENDAR
