BEGIN:VCALENDAR
VERSION:2.0
PRODID:-//ChamberMaster//Event Calendar 2.0//EN
METHOD:PUBLISH
X-PUBLISHED-TTL:P3D
REFRESH-INTERVAL:P3D
CALSCALE:GREGORIAN
BEGIN:VEVENT
DTSTART:20170627T150000Z
DTEND:20170627T153000Z
X-MICROSOFT-CDO-ALLDAYEVENT:FALSE
SUMMARY:Ribbon Cutting - Mercy Medical-Dunes Medical Lab
DESCRIPTION:Mercy Medical Center will hold a ribbon cutting ceremony to celebrate the new location of Mercy Medical-Dunes Medical Lab.
X-ALT-DESC;FMTTYPE=text/html:Mercy Medical Center will hold a ribbon cutting ceremony to celebrate the new location of Mercy Medical-Dunes Medical Lab.
LOCATION:101 Tower Road\, Suite 220 Dakota Dunes\, SD
UID:e.769.3518
SEQUENCE:3
DTSTAMP:20260420T003741Z
URL:https://directory.siouxlandchamber.com/events/details/ribbon-cutting-mercy-medical-dunes-medical-lab-3518
END:VEVENT

END:VCALENDAR
