BEGIN:VCALENDAR
VERSION:2.0
PRODID:-//ChamberMaster//Event Calendar 2.0//EN
METHOD:PUBLISH
X-PUBLISHED-TTL:P3D
REFRESH-INTERVAL:P3D
CALSCALE:GREGORIAN
BEGIN:VEVENT
DTSTART:20170713T210000Z
DTEND:20170713T213000Z
X-MICROSOFT-CDO-ALLDAYEVENT:FALSE
SUMMARY:Ribbon Cutting - Mercy Child Advocacy Center
DESCRIPTION:We will hold a ribbon cutting to commemorate the opening of Mercy Child Advocacy Center's new location at 701 Jackson Street.  Guests will be able to tour the new facility and enjoy some food and beverages following the ribbon cutting.  The Mercy Child Advocacy Center is a comprehensive\, child-friendly program dedicated to serving child victims of abuse.  The new standalone center will triple the CAC's space and provide a more confidential and secure environment.  Please come show your support and join us in thanking Mercy's Child Advocacy Center for the compassionate service they provide our Siouxland communities.
X-ALT-DESC;FMTTYPE=text/html:<span style="background:white\;"><span style="color:#333333\;"><span style="font-family:arial\,sans-serif\;"><span style="font-size:10.5pt\;">We will hold a ribbon cutting to commemorate the opening of Mercy Child Advocacy Center&rsquo\;s new location at 701 Jackson Street. &nbsp\;Guests will be able to tour the new facility and enjoy some food and beverages following the ribbon cutting. &nbsp\;The Mercy Child Advocacy Center is a comprehensive\, child-friendly program dedicated to serving child victims of abuse.&nbsp\; The new standalone center will triple the CAC&rsquo\;s space and provide a more confidential and secure environment.&nbsp\; Please come show your support and join us in thanking Mercy&rsquo\;s Child Advocacy Center for the compassionate service they provide our Siouxland communities.</span></span></span></span>
LOCATION:701 Jackson Street\, Sioux City
UID:e.769.3490
SEQUENCE:3
DTSTAMP:20260420T015842Z
URL:https://directory.siouxlandchamber.com/events/details/ribbon-cutting-mercy-child-advocacy-center-3490
END:VEVENT

END:VCALENDAR
