BEGIN:VCALENDAR
VERSION:2.0
PRODID:-//ChamberMaster//Event Calendar 2.0//EN
METHOD:PUBLISH
X-PUBLISHED-TTL:P3D
REFRESH-INTERVAL:P3D
CALSCALE:GREGORIAN
BEGIN:VEVENT
DTSTART:20160601T170000Z
DTEND:20160601T173000Z
X-MICROSOFT-CDO-ALLDAYEVENT:FALSE
SUMMARY:Ribbon Cutting - Melissa Gomez Insurance\, LLC
DESCRIPTION:Melissa Gomez Insurance\, LLC will celebrate their recent move to a new location with a ribbon cutting followed by an Open House held jointly with EFS Group Wealth Management who is celebrating their 20th Anniversary.  Please join the celebration and enjoy food\, beverages\, and fun!
X-ALT-DESC;FMTTYPE=text/html:Melissa Gomez Insurance\, LLC will celebrate their recent move to a new location with a ribbon cutting followed by an Open House held jointly with EFS Group Wealth Management who is celebrating their 20th Anniversary. &nbsp\;Please join the celebration and enjoy food\, beverages\, and fun!
LOCATION:5764 Sunnybrook Drive Sioux City
UID:e.769.3264
SEQUENCE:3
DTSTAMP:20260421T174319Z
URL:https://directory.siouxlandchamber.com/events/details/ribbon-cutting-melissa-gomez-insurance-llc-06-01-2016-3264
END:VEVENT

END:VCALENDAR
