BEGIN:VCALENDAR
VERSION:2.0
PRODID:-//ChamberMaster//Event Calendar 2.0//EN
METHOD:PUBLISH
X-PUBLISHED-TTL:P3D
REFRESH-INTERVAL:P3D
CALSCALE:GREGORIAN
BEGIN:VEVENT
DTSTART:20181213T150000Z
DTEND:20181213T153000Z
X-MICROSOFT-CDO-ALLDAYEVENT:FALSE
SUMMARY:Ribbon Cutting - MedPharm Iowa
DESCRIPTION:We will welcome new member\, MedPharm Iowa\, at an upcoming ribbon cutting ceremony celebrating their opening.  MedPharm Iowa's mission is to improve the quality of life for Iowans who seek natural\, scientifically-proven medical solutions to help treat debilitating medical conditions.  Focused on innovative vigor and established manufacturing practices\, MedPharm Iowa provides medical cannabis to qualifying patients while educating the community on the benefits of medical cannibis and how to legally obtain products.
X-ALT-DESC;FMTTYPE=text/html:<span style="color: rgb(51\, 51\, 51)\; font-family: Roboto\, sans-serif\; font-size: 13px\;"><span style="background-color:#FFFFFF\;">We will welcome new member\, MedPharm Iowa\, at an upcoming ribbon cutting ceremony celebrating their opening.&nbsp\; MedPharm Iowa&#39\;s mission is to improve the quality of life for Iowans who seek natural\, scientifically-proven medical solutions to help treat debilitating medical conditions.&nbsp\; Focused on innovative vigor and established manufacturing practices\, MedPharm Iowa provides medical cannabis to qualifying patients while educating the community on the benefits of medical cannibis and how to legally obtain products.</span></span>
LOCATION:5700 Sunnybrook Drive Sioux City
UID:e.769.4875
SEQUENCE:3
DTSTAMP:20260421T014759Z
URL:https://directory.siouxlandchamber.com/events/details/ribbon-cutting-medpharm-iowa-4875
END:VEVENT

END:VCALENDAR
