BEGIN:VCALENDAR
VERSION:2.0
PRODID:-//ChamberMaster//Event Calendar 2.0//EN
METHOD:PUBLISH
X-PUBLISHED-TTL:P3D
REFRESH-INTERVAL:P3D
CALSCALE:GREGORIAN
BEGIN:VEVENT
DTSTART:20180803T190000Z
DTEND:20180803T193000Z
X-MICROSOFT-CDO-ALLDAYEVENT:FALSE
SUMMARY:Ribbon Cutting - McDonalds\, 2816 Singing Hills Boulevard
DESCRIPTION:The McDonalds restaurant at 2816 Singing Hills Boulevard is the newest to be remodeled.  Join us for their Grand Re-opening and learn about the many convenient features making it even easier to enjoy McDonalds.
X-ALT-DESC;FMTTYPE=text/html:The McDonalds restaurant at 2816 Singing Hills Boulevard is the newest to be remodeled.&nbsp\; Join us for their Grand Re-opening and learn about the many convenient features making it even easier to enjoy McDonalds.&nbsp\;&nbsp\;
LOCATION:2816 Singing Hills Boulevard Sioux City
UID:e.769.4792
SEQUENCE:3
DTSTAMP:20260420T192917Z
URL:https://directory.siouxlandchamber.com/events/details/ribbon-cutting-mcdonalds-2816-singing-hills-boulevard-4792
END:VEVENT

END:VCALENDAR
