BEGIN:VCALENDAR
VERSION:2.0
PRODID:-//ChamberMaster//Event Calendar 2.0//EN
METHOD:PUBLISH
X-PUBLISHED-TTL:P3D
REFRESH-INTERVAL:P3D
CALSCALE:GREGORIAN
BEGIN:VEVENT
DTSTART:20180129T220000Z
DTEND:20180129T223000Z
X-MICROSOFT-CDO-ALLDAYEVENT:FALSE
SUMMARY:Ribbon Cutting - McDonald's\, 8th & Hamilton
DESCRIPTION:A ribbon cutting will mark the Grand Re-Opening of the recently remodeled McDonald's Restaurant at 8th & Hamilton Blvd.  Please join the celebration\, take in the new improvements and enjoy refreshments following the event.
X-ALT-DESC;FMTTYPE=text/html:A ribbon cutting will mark the Grand Re-Opening of the recently remodeled McDonald&#39\;s Restaurant at 8th &amp\; Hamilton Blvd.&nbsp\; Please join the celebration\, take in the new improvements and enjoy refreshments following the event.
LOCATION:729 Hamilton Boulevard Sioux City
UID:e.769.4630
SEQUENCE:3
DTSTAMP:20260420T092517Z
URL:https://directory.siouxlandchamber.com/events/details/ribbon-cutting-mcdonald-s-8th-hamilton-4630
END:VEVENT

END:VCALENDAR
