BEGIN:VCALENDAR
VERSION:2.0
PRODID:-//ChamberMaster//Event Calendar 2.0//EN
METHOD:PUBLISH
X-PUBLISHED-TTL:P3D
REFRESH-INTERVAL:P3D
CALSCALE:GREGORIAN
BEGIN:VEVENT
DTSTART:20180713T190000Z
DTEND:20180713T193000Z
X-MICROSOFT-CDO-ALLDAYEVENT:FALSE
SUMMARY:Ribbon Cutting - McDonald's\, 4105 Morningside Avenue
DESCRIPTION:The McDonald's restaurant at 4105 Morningside Avenue is the newest restaurant to be remodeled.  Join us for their Grand Re-opening and learn about the many convenient features making it even easier to enjoy McDonald's.
X-ALT-DESC;FMTTYPE=text/html:The McDonald&#39\;s restaurant at 4105 Morningside Avenue is the newest restaurant to be remodeled.&nbsp\; Join us for their Grand Re-opening and learn about the many convenient features making it even easier to enjoy McDonald&#39\;s.
LOCATION:4105 Morningside Avenue Sioux City\, IA
UID:e.769.4787
SEQUENCE:3
DTSTAMP:20260420T180413Z
URL:https://directory.siouxlandchamber.com/events/details/ribbon-cutting-mcdonald-s-4105-morningside-avenue-4787
END:VEVENT

END:VCALENDAR
