BEGIN:VCALENDAR
VERSION:2.0
PRODID:-//ChamberMaster//Event Calendar 2.0//EN
METHOD:PUBLISH
X-PUBLISHED-TTL:P3D
REFRESH-INTERVAL:P3D
CALSCALE:GREGORIAN
BEGIN:VEVENT
DTSTART:20221121T170000Z
DTEND:20221121T173000Z
X-MICROSOFT-CDO-ALLDAYEVENT:FALSE
SUMMARY:Ribbon Cutting - Maurices
DESCRIPTION:Join us in celebrating the remodel of Maurices and grand opening of their new girls store\, evsie.
X-ALT-DESC;FMTTYPE=text/html:Join us in celebrating the remodel of Maurices and grand opening of their new girls store\, evsie.&nbsp\;
LOCATION:5001 Sergeant Rd Suite 300 Sioux City\, IA 51106
UID:e.769.5903
SEQUENCE:3
DTSTAMP:20260419T195359Z
URL:https://directory.siouxlandchamber.com/events/details/ribbon-cutting-maurices-5903
END:VEVENT

END:VCALENDAR
