BEGIN:VCALENDAR
VERSION:2.0
PRODID:-//ChamberMaster//Event Calendar 2.0//EN
METHOD:PUBLISH
X-PUBLISHED-TTL:P3D
REFRESH-INTERVAL:P3D
CALSCALE:GREGORIAN
BEGIN:VEVENT
DTSTART:20160817T143000Z
DTEND:20160817T150000Z
X-MICROSOFT-CDO-ALLDAYEVENT:FALSE
SUMMARY:Ribbon Cutting - Maurices
DESCRIPTION:Maurices is a new Chamber Member and will celebrate with a ribbon cutting and open house and will offer 20% off one regular priced item for those shoppers who mention they are there for the Open House. Maurices is a leading specialty women's clothing store that stands for fashion\, customer service\, value and quality.  Whether you are looking for everyday casual clothes\, something for work or a girl's night out\, you'll find it at Maurices.  Please join us in welcoming Maurices to the Chamber!
X-ALT-DESC;FMTTYPE=text/html:Maurices is a new Chamber Member and will celebrate with a ribbon cutting and open house and will offer 20% off one regular priced item for those shoppers who mention they are there for the Open House.&nbsp\;Maurices is a leading specialty women&rsquo\;s clothing store that stands for fashion\, customer service\, value and quality.&nbsp\; Whether you are looking for everyday casual clothes\, something for work or a girl&#39\;s night out\, you&#39\;ll find it at Maurices. &nbsp\;Please join us in welcoming Maurices to the Chamber!
LOCATION:5001 Sergeant Road\, Suite 300 Sioux City
UID:e.769.3321
SEQUENCE:3
DTSTAMP:20260421T143223Z
URL:https://directory.siouxlandchamber.com/events/details/ribbon-cutting-maurices-08-17-2016-3321
END:VEVENT

END:VCALENDAR
