BEGIN:VCALENDAR
VERSION:2.0
PRODID:-//ChamberMaster//Event Calendar 2.0//EN
METHOD:PUBLISH
X-PUBLISHED-TTL:P3D
REFRESH-INTERVAL:P3D
CALSCALE:GREGORIAN
BEGIN:VEVENT
DTSTART:20160520T190000Z
DTEND:20160520T193000Z
X-MICROSOFT-CDO-ALLDAYEVENT:FALSE
SUMMARY:Ribbon Cutting - Martin Brothers Distributing Co.\, Inc.
DESCRIPTION:Please join us for a Ribbon Cutting to welcome Martin Brothers Distributing Company as new members of the Chamber.  Martin Bros. Distributing is one of the leading family owned independent food distributors in the Midwest serving restaurants\, healthcare facilities\, schools and convenience stores.
X-ALT-DESC;FMTTYPE=text/html:Please join us for a Ribbon Cutting to welcome Martin Brothers Distributing Company as new members of the Chamber. &nbsp\;<span style="color: rgb(102\, 102\, 102)\; font-family: Arial\, Helvetica\, sans-serif\; font-size: 14px\; line-height: 21px\; text-align: center\;">Martin Bros. Distributing is one of the leading family owned independent food distributors in the Midwest serving restaurants\, healthcare facilities\, schools and convenience stores.</span> &nbsp\;&nbsp\;
LOCATION:Look for the Martin Bros' truck in the Long Lines parking lot (South of the Chamber of Commerce)
UID:e.769.3280
SEQUENCE:3
DTSTAMP:20260421T185606Z
URL:https://directory.siouxlandchamber.com/events/details/ribbon-cutting-martin-brothers-distributing-co-inc-05-20-2016-3280
END:VEVENT

END:VCALENDAR
