BEGIN:VCALENDAR
VERSION:2.0
PRODID:-//ChamberMaster//Event Calendar 2.0//EN
METHOD:PUBLISH
X-PUBLISHED-TTL:P3D
REFRESH-INTERVAL:P3D
CALSCALE:GREGORIAN
BEGIN:VEVENT
DTSTART:20170829T190000Z
DTEND:20170829T193000Z
X-MICROSOFT-CDO-ALLDAYEVENT:FALSE
SUMMARY:Ribbon Cutting - Mainstreet Massage & Wellness Center
DESCRIPTION:Main Street Massage and Wellness Center recently joined the Chamber and we will celebrate with a Ribbon Cutting ceremony and hope you can join them to learn about their business.  At Main Street Massage they believe healing is always possible and with the right tools you can overcome any health challenge. With this in mind they offer a wide variety of healing services and products that are aimed towards helping you on your path to wellness.  From Massage Therapy\, Aromatherapy\, Reflexology\, Reiki and more let us help you find the right tool to help put your life back in to balance
X-ALT-DESC;FMTTYPE=text/html:<span style="font-family:arial narrow\,sans-serif\;"><span style="font-size:11.0pt\;">Main Street Massage and Wellness Center recently joined the Chamber and we will celebrate with a Ribbon Cutting ceremony and hope you can join them to learn about their business.&nbsp\; At Main Street Massage they believe healing is always possible and with the right tools you can overcome any health challenge. With this in mind they offer a wide variety of healing services and products that are aimed towards helping you on your path to wellness.&nbsp\; From Massage Therapy\, Aromatherapy\, Reflexology\, Reiki and more let us help you find the right tool to help put your life back in to balance</span></span>
LOCATION:560 River Drive\, No Sioux City
UID:e.769.3543
SEQUENCE:3
DTSTAMP:20260420T033423Z
URL:https://directory.siouxlandchamber.com/events/details/ribbon-cutting-mainstreet-massage-wellness-center-3543
END:VEVENT

END:VCALENDAR
