BEGIN:VCALENDAR
VERSION:2.0
PRODID:-//ChamberMaster//Event Calendar 2.0//EN
METHOD:PUBLISH
X-PUBLISHED-TTL:P3D
REFRESH-INTERVAL:P3D
CALSCALE:GREGORIAN
BEGIN:VEVENT
DTSTART:20161102T210000Z
DTEND:20161102T213000Z
X-MICROSOFT-CDO-ALLDAYEVENT:FALSE
SUMMARY:Ribbon Cutting - M's on 4th
DESCRIPTION:New business\, M's on 4th\, will celebrate their recent opening with a ribbon cutting event.  M's serves outstanding classic\, hearty Italian cuisine that infuses geographical variances of traditional ranges of culinary diversity.  Located in the Historic 4th Street District\, their diverse and extensive wine list paired with top shelf beverages will please your palate and appease your appetite.  We hope you can join us in welcoming them to the Chamber and enjoy their Wine Wednesday following the event.
X-ALT-DESC;FMTTYPE=text/html:New business\, M&rsquo\;s on 4<sup>th</sup>\, will celebrate their recent opening with a ribbon cutting event.&nbsp\; M&rsquo\;s serves outstanding classic\, hearty Italian cuisine that infuses geographical variances of traditional ranges of culinary diversity.&nbsp\; Located in the Historic 4th Street District\, their diverse and extensive wine list paired with top shelf beverages will please your palate and appease your appetite.&nbsp\; We hope you can join us in welcoming them to the Chamber and enjoy their Wine Wednesday following the event.
LOCATION:1021 4th Street Sioux City
UID:e.769.3401
SEQUENCE:3
DTSTAMP:20260419T134134Z
URL:https://directory.siouxlandchamber.com/events/details/ribbon-cutting-m-s-on-4th-3401
END:VEVENT

END:VCALENDAR
